BEGIN:VCALENDAR
VERSION:2.0
PRODID:-//eventon.com NONSGML v1.0//EN
CALSCALE:GREGORIAN
METHOD:PUBLISH
BEGIN:VEVENT
UID:69ecff4e83f03
DTSTAMP:20260425T175214Z
DTSTART:20250117T080000Z
DTEND:20250119T160000Z
LOCATION:
SUMMARY:Manuelle Therapie - Ellenbogen Hand (E)
DESCRIPTION:Manuelle Therapie - Ellenbogen Hand (E)\nhttps://kiedaisch-akad
 emie.de/events/manuelle-therapie-ellenbogen-hand-e/
URL:https://kiedaisch-akademie.de/events/manuelle-therapie-ellenbogen-hand-e/
END:VEVENT
END:VCALENDAR