BEGIN:VCALENDAR
VERSION:2.0
PRODID:-//eventon.com NONSGML v1.0//EN
CALSCALE:GREGORIAN
METHOD:PUBLISH
BEGIN:VEVENT
UID:69e9833b7213d
DTSTAMP:20260423T022603Z
DTSTART:20241025T070000Z
DTEND:20241027T160000Z
LOCATION:
SUMMARY:KGG Aufbaukurs Training
DESCRIPTION:KGG Aufbaukurs Training\nhttps://kiedaisch-akademie.de/events/k
 gg-aufbaukurs-training/
URL:https://kiedaisch-akademie.de/events/kgg-aufbaukurs-training/
END:VEVENT
END:VCALENDAR